Workbook

Sheet 使い方
A1: 会社設立ナビ｜無料Excelテンプレート
A2: 株式会社設立書類 一式テンプレート
A3: 「入力」シートに1回入力するだけで、定款・発起人決定書・就任承諾書・払込証明書・登記申請書・登記すべき事項に自動で反映されます。
B6: 使い方
B7: ステップ1 | C7: 「入力」シートの黄色のセルに、商号・本店・目的・発起人・取締役・日付などを入力します（サンプルを上書き）。
B8: ステップ2 | C8: 各書類のシートを開き、内容を確認します。資本金・発行株式数・登録免許税は自動で計算されます。
B9: ステップ3 | C9: 各シートを印刷（A4縦）して、記名押印します。定款は公証役場で認証を受け、その他の書類は法務局に提出します。
B11: 想定している会社
C12: 発起設立／取締役会を置かない／株式の譲渡制限あり（非公開会社）の、一般的な小規模の株式会社。発起人・取締役は各3名まで。
B14: ご利用にあたって
C15: ・作成した書類は必ず内容を確認し、必要に応じて公証役場・法務局・専門家にご確認ください。
C16: ・印鑑届書・印鑑カード交付申請書、実質的支配者となるべき者の申告書は、法務局・公証役場の様式を使います。
C17: ・入力欄以外のセルは保護しています（パスワードなし）。文言を変えたいときは［校閲］→［シート保護の解除］で解除できます。
C18: ・Webで書類を作れる無料ツール：https://kaisyasetsuritsu.xyz/setsuritsu-tool/

Sheet 入力
A1: 会社設立ナビ｜無料Excelテンプレート
A2: 入力：会社の基本情報
A3: 黄色のセルに入力します。ほかのシートに自動で反映されます。
B6: 会社の基本
B7: 商号 | C7: 株式会社サンプル | E7: 「株式会社」を前後どちらかに入れる
B8: 本店所在地（定款用） | C8: 東京都港区 | E8: 市区町村まで
B9: 本店所在場所（番地まで） | C9: 東京都港区○○一丁目2番3号 | E9: 発起人決定書・登記申請書で使用
B10: 公告の方法 | C10: 官報に掲載する方法
B11: 決算月（1〜12） | C11: 3 | E11: 事業年度は決算月の翌月から1年
B13: 事業目的（上から順に。空欄は表示されません）
B14: 目的1 | C14: 経営コンサルティング業務
B15: 目的2 | C15: ソフトウェアの企画、開発及び販売
B16: 目的3 | C16: 前各号に附帯又は関連する一切の事業
B17: 目的4
B18: 目的5
B19: 目的6
B20: 目的7
B21: 目的8
B23: 株式
B24: 1株の払込金額（円） | C24: 10000
B25: 発行可能株式総数（株） | C25: 1000
B26: 取締役の任期（年） | C26: 10 | E26: 譲渡制限会社は最長10年
B28: 発起人（最大3名・株数が0の人は表示されません）
B29: 氏名 | C29: 住所 | D29: 引受株数
B30: 山田太郎 | C30: 東京都新宿区○○二丁目3番4号 | D30: 100
D31: 0
D32: 0
B34: 設立時取締役（最大3名）
B35: 氏名 | C35: 住所
B36: 山田太郎 | C36: 東京都新宿区○○二丁目3番4号
B40: 設立時代表取締役の氏名 | C40: 山田太郎 | E40: 取締役の中から1名
B41: 設立時代表取締役の住所 | C41: 東京都新宿区○○二丁目3番4号
B43: 日付・提出先
B44: 定款の作成日 | C44: 46311
B45: 出資金の払込日 | C45: 46311
B46: 登記の申請日（設立日） | C46: 46311 | E46: 土日祝日は申請できません
B47: 管轄の法務局 | C47: 東京法務局
B48: 連絡先の電話番号 | C48: 03-0000-0000
B50: 自動計算
B51: 設立時発行株式数（株） | C51: =SUM(D30:D32)
...

Sheet 定款
B1: 定 款
B3: 第1章 総 則
B4: 第1条（商号）
B5: =" 当会社は、"&入力!$C$7&"と称する。"
B6: 第2条（目的）
B7: 当会社は、次の事業を営むことを目的とする。
B8: =IF(入力!$C$14="",""," "&(COUNTIF(入力!$C$14:C14,"?*"))&"．"&入力!$C$14)
B9: =IF(入力!$C$15="",""," "&(COUNTIF(入力!$C$14:C15,"?*"))&"．"&入力!$C$15)
B10: =IF(入力!$C$16="",""," "&(COUNTIF(入力!$C$14:C16,"?*"))&"．"&入力!$C$16)
B11: =IF(入力!$C$17="",""," "&(COUNTIF(入力!$C$14:C17,"?*"))&"．"&入力!$C$17)
B12: =IF(入力!$C$18="",""," "&(COUNTIF(入力!$C$14:C18,"?*"))&"．"&入力!$C$18)
B13: =IF(入力!$C$19="",""," "&(COUNTIF(入力!$C$14:C19,"?*"))&"．"&入力!$C$19)
B14: =IF(入力!$C$20="",""," "&(COUNTIF(入力!$C$14:C20,"?*"))&"．"&入力!$C$20)
B15: =IF(入力!$C$21="",""," "&(COUNTIF(入力!$C$14:C21,"?*"))&"．"&入力!$C$21)
B16: 第3条（本店の所在地）
B17: =" 当会社は、本店を"&入力!$C$8&"に置く。"
B18: 第4条（公告の方法）
B19: =" 当会社の公告は、"&IF(入力!$C$10="電子公告","電子公告により行う。ただし、事故その他やむを得ない事由によって電子公告による公告をすることができない場合は、官報に掲載する方法により行う。","官報に掲載する方法により行う。")
B20: 第2章 株 式
B21: 第5条（発行可能株式総数）
B22: =" 当会社の発行可能株式総数は、"&TEXT(入力!$C$25,"#,##0")&"株とする。"
B23: 第6条（株券の不発行）
B24: 当会社の株式については、株券を発行しない。
B25: 第7条（株式の譲渡制限）
B26: 当会社の株式を譲渡により取得するには、株主総会の承認を受けなければならない。
B27: 第8条（相続人等に対する売渡しの請求）
B28: 当会社は、相続その他の一般承継により当会社の株式を取得した者に対し、当該株式を当会社に売り渡すことを請求することができる。
B29: 第9条（基準日）
B30: 当会社は、毎事業年度末日の最終の株主名簿に記載又は記録された議決権を有する株主をもって、その事業年度に関する定時株主総会において権利を行使することができる株主とする。
B31: 第3章 株主総会
B32: 第10条（招集）
B33: 当会社の定時株主総会は、毎事業年度の終了後3か月以内に招集し、臨時株主総会は、必要があるときに招集する。
B34: 第11条（議長）
... B43: 第15条（取締役の任期）
B44: =" 取締役の任期は、選任後"&入力!$C$26&"年以内に終了する事業年度のうち最終のものに関する定時株主総会の終結の時までとする。"
B45: 第16条（代表取締役）
B46: 当会社に取締役が2名以上ある場合には、取締役の互選により代表取締役1名を定める。 2 当会社に取締役が1名のみある場合には、当該取締役が当会社を代表する。
B47: 第17条（取締役の報酬等）
B48: 取締役の報酬、賞与その他の職務執行の対価として当会社から受ける財産上の利益は、株主総会の決議によって定める。
B49: 第5章 計 算
...

Sheet 発起人決定書
B1: 発起人決定書
B3: =" "&TEXT(入力!$C$44,"yyyy年m月d日")&"、"&入力!$C$7&"設立事務所において、発起人全員の同意をもって、次の事項を決定した。"
B5: 1．本店所在場所
B6: =" "&入力!$C$9
B8: 上記決定事項を証するため、発起人全員が次に記名押印する。
B10: =" "&TEXT(入力!$C$44,"yyyy年m月d日")
B12: =" "&入力!$C$7
B14: =IF(入力!$D$30>0,"発起人 "&入力!$B$30&" ㊞","")
B15: =IF(入力!$D$31>0,"発起人 "&入力!$B$31&" ㊞","")
B16: =IF(入力!$D$32>0,"発起人 "&入力!$B$32&" ㊞","")

Sheet 就任承諾書
B1: =IF(入力!$B$36="","","就任承諾書")
B3: =IF(入力!$B$36="",""," 私は、"&TEXT(入力!$C$44,"yyyy年m月d日")&"、貴社の設立時取締役に選任されたので、その就任を承諾します。")
B5: =IF(入力!$B$36="",""," "&TEXT(入力!$C$44,"yyyy年m月d日"))
B7: =IF(入力!$B$36="",""," 住所 "&入力!$C$36)
B8: =IF(入力!$B$36="",""," 氏名 "&入力!$B$36&" ㊞")
B10: =IF(入力!$B$36="","",入力!$C$7&" 御中")
B15: =IF(入力!$B$37="","","就任承諾書")
B17: =IF(入力!$B$37="",""," 私は、"&TEXT(入力!$C$44,"yyyy年m月d日")&"、貴社の設立時取締役に選任されたので、その就任を承諾します。")
B19: =IF(入力!$B$37="",""," "&TEXT(入力!$C$44,"yyyy年m月d日"))
B21: =IF(入力!$B$37="",""," 住所 "&入力!$C$37)
B22: =IF(入力!$B$37="",""," 氏名 "&入力!$B$37&" ㊞")
B24: =IF(入力!$B$37="","",入力!$C$7&" 御中")
B29: =IF(入力!$B$38="","","就任承諾書")
B31: =IF(入力!$B$38="",""," 私は、"&TEXT(入力!$C$44,"yyyy年m月d日")&"、貴社の設立時取締役に選任されたので、その就任を承諾します。")
B33: =IF(入力!$B$38="",""," "&TEXT(入力!$C$44,"yyyy年m月d日"))
B35: =IF(入力!$B$38="",""," 住所 "&入力!$C$38)
B36: =IF(入力!$B$38="",""," 氏名 "&入力!$B$38&" ㊞")
B38: =IF(入力!$B$38="","",入力!$C$7&" 御中")
B43: =IF(入力!$C$54>1,"就任承諾書（代表取締役）","")
B45: =IF(入力!$C$54>1," 私は、"&TEXT(入力!$C$44,"yyyy年m月d日")&"、貴社の設立時代表取締役に選定されたので、その就任を承諾します。","")
B47: =IF(入力!$C$54>1," 住所 "&入力!$C$41,"")
B48: =IF(入力!$C$54>1," 氏名 "&入力!$C$40&" ㊞","")
B50: =IF(入力!$C$54>1,入力!$C$7&" 御中","")

Sheet 払込証明書
B1: 証 明 書
B3: 当会社の設立時発行株式については、以下のとおり、全額の払込みがあったことを証明します。
B5: =" 設立時発行株式数 "&TEXT(入力!$C$51,"#,##0")&"株"
B6: =" 払込みを受けた金額 金"&TEXT(入力!$C$52,"#,##0")&"円"
B8: =" "&TEXT(入力!$C$45,"yyyy年m月d日")
B10: =" "&入力!$C$9
B11: =" "&入力!$C$7
B12: =" 設立時代表取締役 "&入力!$C$40&" ㊞"
B15: ※この証明書に、預金通帳の表紙・表紙裏・払込みが記載されたページのコピーを合わせてとじ、契印します。

Sheet 登記申請書
B1: 株式会社設立登記申請書
B3: ="1．商号 "&入力!$C$7
B4: ="1．本店 "&入力!$C$9
B5: ="1．登記の事由 "&TEXT(入力!$C$46,"yyyy年m月d日")&"発起設立の手続終了"
B6: 1．登記すべき事項 別紙のとおり
B7: ="1．課税標準金額 金"&TEXT(入力!$C$52,"#,##0")&"円"
B8: ="1．登録免許税 金"&TEXT(入力!$C$53,"#,##0")&"円"
B9: 1．添付書類
B10: 定款 1通
B11: 発起人の決定書 1通
B12: =" 設立時取締役の就任承諾書 "&入力!$C$54&"通"
B13: =IF(入力!$C$54>1," 設立時代表取締役の就任承諾書 1通","")
B14: =" 印鑑証明書 "&入力!$C$54&"通"
B15: 払込みがあったことを証する書面 1通
B17: 上記のとおり登記の申請をします。
B19: =" "&TEXT(入力!$C$46,"yyyy年m月d日")
B21: =" "&入力!$C$9
B22: =" 申請人 "&入力!$C$7
B23: =" "&入力!$C$41
B24: =" 代表取締役 "&入力!$C$40&" ㊞"
B25: =" 連絡先の電話番号 "&入力!$C$48
B27: =" "&入力!$C$47&" 御中"
B30: ※代表取締役の印は、法務局に届け出る会社の実印を押します。登録免許税は収入印紙を台紙に貼って添付します。

Sheet 登記すべき事項
B1: 登記すべき事項（別紙）
B3: ="「商号」"&入力!$C$7
B4: ="「本店」"&入力!$C$9
B5: ="「公告をする方法」"&IF(入力!$C$10="電子公告","電子公告により行う。","官報に掲載してする。")
B6: 「目的」
B7: =IF(入力!$C$14="","",(COUNTIF(入力!$C$14:C14,"?*"))&"．"&入力!$C$14)
B8: =IF(入力!$C$15="","",(COUNTIF(入力!$C$14:C15,"?*"))&"．"&入力!$C$15)
B9: =IF(入力!$C$16="","",(COUNTIF(入力!$C$14:C16,"?*"))&"．"&入力!$C$16)
B10: =IF(入力!$C$17="","",(COUNTIF(入力!$C$14:C17,"?*"))&"．"&入力!$C$17)
B11: =IF(入力!$C$18="","",(COUNTIF(入力!$C$14:C18,"?*"))&"．"&入力!$C$18)
B12: =IF(入力!$C$19="","",(COUNTIF(入力!$C$14:C19,"?*"))&"．"&入力!$C$19)
B13: =IF(入力!$C$20="","",(COUNTIF(入力!$C$14:C20,"?*"))&"．"&入力!$C$20)
B14: =IF(入力!$C$21="","",(COUNTIF(入力!$C$14:C21,"?*"))&"．"&入力!$C$21)
B15: ="「発行可能株式総数」"&TEXT(入力!$C$25,"#,##0")&"株"
B16: ="「発行済株式の総数」"&TEXT(入力!$C$51,"#,##0")&"株"
B17: ="「資本金の額」金"&TEXT(入力!$C$52,"#,##0")&"円"
B18: 「株式の譲渡制限に関する規定」
B19: 当会社の株式を譲渡により取得するには、株主総会の承認を受けなければならない。
B20: 「役員に関する事項」
B21: =IF(入力!$B$36="","","「資格」取締役 「氏名」"&入力!$B$36)
B22: =IF(入力!$B$37="","","「資格」取締役 「氏名」"&入力!$B$37)
B23: =IF(入力!$B$38="","","「資格」取締役 「氏名」"&入力!$B$38)
B24: ="「資格」代表取締役 「住所」"&入力!$C$41&" 「氏名」"&入力!$C$40
B25: 「登記記録に関する事項」設立
